BEGIN:VCALENDAR
VERSION:2.0
PRODID:-//Østsjællands Museer - ECPv6.15.20//NONSGML v1.0//EN
CALSCALE:GREGORIAN
METHOD:PUBLISH
X-ORIGINAL-URL:https://www.oesm.dk
X-WR-CALDESC:Begivenheder for Østsjællands Museer
REFRESH-INTERVAL;VALUE=DURATION:PT1H
X-Robots-Tag:noindex
X-PUBLISHED-TTL:PT1H
BEGIN:VTIMEZONE
TZID:Europe/Copenhagen
BEGIN:DAYLIGHT
TZOFFSETFROM:+0100
TZOFFSETTO:+0200
TZNAME:CEST
DTSTART:20250330T010000
END:DAYLIGHT
BEGIN:STANDARD
TZOFFSETFROM:+0200
TZOFFSETTO:+0100
TZNAME:CET
DTSTART:20251026T010000
END:STANDARD
BEGIN:DAYLIGHT
TZOFFSETFROM:+0100
TZOFFSETTO:+0200
TZNAME:CEST
DTSTART:20260329T010000
END:DAYLIGHT
BEGIN:STANDARD
TZOFFSETFROM:+0200
TZOFFSETTO:+0100
TZNAME:CET
DTSTART:20261025T010000
END:STANDARD
BEGIN:DAYLIGHT
TZOFFSETFROM:+0100
TZOFFSETTO:+0200
TZNAME:CEST
DTSTART:20270328T010000
END:DAYLIGHT
BEGIN:STANDARD
TZOFFSETFROM:+0200
TZOFFSETTO:+0100
TZNAME:CET
DTSTART:20271031T010000
END:STANDARD
END:VTIMEZONE
BEGIN:VEVENT
DTSTART;TZID=Europe/Copenhagen:20260315T100000
DTEND;TZID=Europe/Copenhagen:20260315T113000
DTSTAMP:20260423T204827
CREATED:20260414T063820Z
LAST-MODIFIED:20260414T063820Z
UID:25182-1773568800-1773574200@www.oesm.dk
SUMMARY:Mød Østsjællands Museer på historiske dage
DESCRIPTION:Østsjællands Museer deltager på Historiske Dag i Øksnehallen med aktiviteter og formidling for børn og information om koldkrigsmuseet FORT og det geologiske museum KALK.
URL:https://www.oesm.dk/event/moed-oestsjaellands-museer-paa-historiske-dage/
END:VEVENT
BEGIN:VEVENT
DTSTART;TZID=Europe/Copenhagen:20260320T190000
DTEND;TZID=Europe/Copenhagen:20260320T210000
DTSTAMP:20260423T204827
CREATED:20260415T084844Z
LAST-MODIFIED:20260415T084844Z
UID:25189-1774033200-1774040400@www.oesm.dk
SUMMARY:Jesper Milán hos Stenvennerne
DESCRIPTION:Lukket arrangement for Stenvennernes medlemmer: \nMuseumsinspektør på KALK\, Jesper Milán holder foredrag i Stenvennerne\, Københavns Amatørgeologiske Forening. \n 
URL:https://www.oesm.dk/event/jesper-milan-hos-stenvennerne/
END:VEVENT
BEGIN:VEVENT
DTSTART;TZID=Europe/Copenhagen:20260323T150000
DTEND;TZID=Europe/Copenhagen:20260323T163000
DTSTAMP:20260423T204827
CREATED:20260415T084330Z
LAST-MODIFIED:20260415T084330Z
UID:25187-1774278000-1774283400@www.oesm.dk
SUMMARY:Generalforsamling Østsjællands Museumsforening
DESCRIPTION:Lukket arrangement: \nØstsjællands Museumsforening holder generelforsamling med bl.a. kulturhistorisk oplæg fra Østsjællands Museers direktør Mads Damsbo.
URL:https://www.oesm.dk/event/generalforsamling-oestsjaellands-museumsforening/
END:VEVENT
BEGIN:VEVENT
DTSTART;TZID=Europe/Copenhagen:20260328T100000
DTEND;TZID=Europe/Copenhagen:20260328T120000
DTSTAMP:20260423T204827
CREATED:20260313T080606Z
LAST-MODIFIED:20260313T081018Z
UID:25099-1774692000-1774699200@www.oesm.dk
SUMMARY:Sæsonåbning: Kom og få dit gratis sæsonkort
DESCRIPTION:Kom og vær med til en festlig formiddag\, når Østsjællands Museer slår dørene op på museerne KALK og FORT og fejrer begyndelsen på en ny spændende sæson med gratis adgang og sæsonkort til alle fremmødte den 28. marts kl. 10-12. \nVi gentager sidste års succes med at uddele gratis sæsonkort til alle fremmødte og byder på kaffe og kage samt juice og slik til børnene. \nSom noget nyt giver sæsonkortet i år også 20 procent rabat på guidede ture på FORT og guidede fossiljagter i Faxe Kalkbrud for kortholder og en ledsager\, og der er børnekort med samme fordele. \nDerudover giver sæsonkortene som vanligt fri entré på både KALK og FORT samt 50 procent rabat på entrébilletten for en gæst og 10 procent rabat i museumsbutikkerne. \nTag familien med til en hyggelig fejring af\, at foråret banker på med masser af spændende oplevelser og gode besøg forude. Vi  har bestilt ekstra sæsonkort\, så vi ikke løber tør for dem i år – men bemærk\, at uddelingen kun er fra kl. 10 til 12 og ikke i museets øvrige åbningstid. \nMuseerne glæder sig til at byde både nye og tilbagevendende gæster velkommen til en ny sæson. \nBemærk: Arrangementerne på FORT og KALK finder sted samtidig\, den 28. marts kl. 10-12. \nFORT: Korsnæbsvej 60\, 4673 Rødvig Stevns \nKALK: Østervej 2b\, 4640 Faxe \nBegge museer har åbent fra kl. 10 til 17 i påsken.
URL:https://www.oesm.dk/event/saesonaabning-kom-og-faa-dit-gratis-saesonkort/
CATEGORIES:Koldkrigsmuseum Stevnsfort
ATTACH;FMTTYPE=image/jpeg:https://www.oesm.dk/wp-content/uploads/2026/03/Saesonaabning-KALK-2025-scaled.jpeg
ORGANIZER;CN="%C3%98stsj%C3%A6lland Museer":MAILTO:museum@oesm.dk
END:VEVENT
END:VCALENDAR