BEGIN:VCALENDAR
VERSION:2.0
PRODID:-//Østsjællands Museer - ECPv6.15.20//NONSGML v1.0//EN
CALSCALE:GREGORIAN
METHOD:PUBLISH
X-WR-CALNAME:Østsjællands Museer
X-ORIGINAL-URL:https://www.oesm.dk
X-WR-CALDESC:Begivenheder for Østsjællands Museer
REFRESH-INTERVAL;VALUE=DURATION:PT1H
X-Robots-Tag:noindex
X-PUBLISHED-TTL:PT1H
BEGIN:VTIMEZONE
TZID:Europe/Copenhagen
BEGIN:DAYLIGHT
TZOFFSETFROM:+0100
TZOFFSETTO:+0200
TZNAME:CEST
DTSTART:20240331T010000
END:DAYLIGHT
BEGIN:STANDARD
TZOFFSETFROM:+0200
TZOFFSETTO:+0100
TZNAME:CET
DTSTART:20241027T010000
END:STANDARD
BEGIN:DAYLIGHT
TZOFFSETFROM:+0100
TZOFFSETTO:+0200
TZNAME:CEST
DTSTART:20250330T010000
END:DAYLIGHT
BEGIN:STANDARD
TZOFFSETFROM:+0200
TZOFFSETTO:+0100
TZNAME:CET
DTSTART:20251026T010000
END:STANDARD
BEGIN:DAYLIGHT
TZOFFSETFROM:+0100
TZOFFSETTO:+0200
TZNAME:CEST
DTSTART:20260329T010000
END:DAYLIGHT
BEGIN:STANDARD
TZOFFSETFROM:+0200
TZOFFSETTO:+0100
TZNAME:CET
DTSTART:20261025T010000
END:STANDARD
END:VTIMEZONE
BEGIN:VEVENT
DTSTART;TZID=Europe/Copenhagen:20250928T100000
DTEND;TZID=Europe/Copenhagen:20250928T140000
DTSTAMP:20260422T190815
CREATED:20250829T100710Z
LAST-MODIFIED:20250829T100710Z
UID:24533-1759053600-1759068000@www.oesm.dk
SUMMARY:Stevns Klint Motionsevent / DGI-løb
DESCRIPTION:Unik løbeoplevelse i gangene på Stevnsfortet 18 meter under jorden! \nNu har du muligheden for at opleve Stevns Fortet og Stevns Klint helt tæt på\, når vi søndag d. 28. september afholder Stevns Klint Motionsevent – et motionsevent for hele familien.\nDer venter en løbeoplevelse af de helt særlige\, når vi\, sammen med Koldkrigsmuseum Stevnsfortet og Stevns Klint Experience\, åbner op for gangene til Stevnsfortet og sender jer på løbetur ved den gamle frontlinje. \nEn spetakulær og hel unik oplevelse;\n– Stevns Klint Experince midt i Bosedal Kalkbrud danner rammen for start og mål\n– Stevns Fortet sender deltagerne tilbage til den kolde krig; 60 trappetrin og 18 meter ned under jorden i gangene på det gamle fort\n– Trampestien langs Stevns klint sikre den smukkeste panoramaudsigt over Østersøen og den betagende klint\n– Højerup Gamle Kirke fra 1357 rejser sig stolt på den yderste klintekant og giver et fantastisk udsyn over klinten og havet \nKan vi sige andet; ET HISTORISK VINGESUS OG EN UNIK OPLEVELSE.  \nVi inviterer både løbere og gængere\, børn og voksne til at deltage i dette unikke event\, hvor verdens historie\, fællesskab og motion forenes. \nDet er muligt at deltage på følgende distancer;\nBørneløb (ca. 2 km)\n5 km løb/gang (ca.)\n10 km løb/gang (ca.) \n10 km løbere og gængere sendes afsted fra Boesdal Kalkbrud kl. 10.00 (tidsgrænse 3 timer).\n5 km løbere og gængere sendes afsted fra Boesdal Kalkbrud kl. 12.00 \nRuterne vil være en kombination af landevej og trampesti\, hvor der er rig mulighed for at nyde både naturen\, udsigten og seværdighederne langs Stevns Klint.\nDe endelige ruter afhænger af tilladelser mv. og offentliggøres ca. 1 måned inden eventet. \nBørneløbet skydes i gang kl. 11 og foregår på en rundstrækning i Boesdal Kalkbrud på ca. 2 km.\nForældre er velkomne til at løbe med børnene. \nMotionseventet arrangeres af Rødvig G&I og DGI Storstrømmen med støtte fra FORT\, Stevns Kommune og Stevns Klint Experience.
URL:https://www.oesm.dk/event/stevns-klint-motionsevent-dgi-loeb/
LOCATION:FORT\, Korsnæbsvej 60\, 4673\, 4673\, Denmark
CATEGORIES:Koldkrigsmuseum Stevnsfort
ATTACH;FMTTYPE=image/jpeg:https://www.oesm.dk/wp-content/uploads/2025/08/DGI-loeb.jpg
END:VEVENT
END:VCALENDAR